BEGIN:VCALENDAR
VERSION:2.0
PRODID:-//Circolo Cultura e Stampa Bellunese - ECPv6.15.17.1//NONSGML v1.0//EN
CALSCALE:GREGORIAN
METHOD:PUBLISH
X-WR-CALNAME:Circolo Cultura e Stampa Bellunese
X-ORIGINAL-URL:https://circoloculturaestampabellunese.it
X-WR-CALDESC:Eventi per Circolo Cultura e Stampa Bellunese
REFRESH-INTERVAL;VALUE=DURATION:PT1H
X-Robots-Tag:noindex
X-PUBLISHED-TTL:PT1H
BEGIN:VTIMEZONE
TZID:Europe/Rome
BEGIN:DAYLIGHT
TZOFFSETFROM:+0100
TZOFFSETTO:+0200
TZNAME:CEST
DTSTART:20240331T010000
END:DAYLIGHT
BEGIN:STANDARD
TZOFFSETFROM:+0200
TZOFFSETTO:+0100
TZNAME:CET
DTSTART:20241027T010000
END:STANDARD
BEGIN:DAYLIGHT
TZOFFSETFROM:+0100
TZOFFSETTO:+0200
TZNAME:CEST
DTSTART:20250330T010000
END:DAYLIGHT
BEGIN:STANDARD
TZOFFSETFROM:+0200
TZOFFSETTO:+0100
TZNAME:CET
DTSTART:20251026T010000
END:STANDARD
BEGIN:DAYLIGHT
TZOFFSETFROM:+0100
TZOFFSETTO:+0200
TZNAME:CEST
DTSTART:20260329T010000
END:DAYLIGHT
BEGIN:STANDARD
TZOFFSETFROM:+0200
TZOFFSETTO:+0100
TZNAME:CET
DTSTART:20261025T010000
END:STANDARD
END:VTIMEZONE
BEGIN:VEVENT
DTSTART;TZID=Europe/Rome:20251019T204500
DTEND;TZID=Europe/Rome:20251019T220000
DTSTAMP:20260419T142024
CREATED:20250704T085421Z
LAST-MODIFIED:20250926T102445Z
UID:2429-1760906700-1760911200@circoloculturaestampabellunese.it
SUMMARY:Trieste 1954
DESCRIPTION:“TRIESTE 1954”\n\ndi Simone Cristicchi\n\n\n\nscritto con Simona Orlando\nregia Paolo Valerio\n\ncon Simone Cristicchi\ne l’orchestra del Teatro Verdi di Trieste (a Trieste)\ne l’orchestra dell’Accademia musicale Naonis di Pordenone (le altre date)\ndiretta dal Maestro Valter Sivilotti\ncon il Coro del Friuli Venezia Giulia e il maestro del Coro Cristiano dell’Oste\n\nvideo Giulio Ladini\nsi ringraziano per i contributi video\nRai Friuli Venezia Giulia\nLega Nazionalemusiche di Valter Sivilotti\nvoce Franca Drioli\n\n\nDurata: 90 minuti. \n \nIn questo spettacolo Simone Cristicchi rappresenta l’unicità della meravigliosa città di Trieste. Definendola una città “a doppio passo”\, veloce e dinamica eppure a lungo immobilizzata. E poi “a doppio tempo” come nel caso del primissimo dopo guerra dove l’Italia venne liberata nel 1945 e Trieste solo nel 1954. Nello spettacolo si evidenziano il coraggio e lo spirito con cui Trieste e i triestini hanno saputo affrontare tutto ciò che il corso della storia ha posto davanti loro. Il celebre artista fra musica e parole\, servendosi di materiale audiovisivo fornito dalla sede Rai regionale\, racconterà le emozioni e i pensieri del popolo triestino nei giorni precedenti a quel 26 ottobre 1954 in cui Trieste si ricongiunse all’Italia.
URL:https://circoloculturaestampabellunese.it/event/trieste-1954/
LOCATION:Teatro D. Buzzati\, Belluno\, Italia
CATEGORIES:Prosa Belluno
ATTACH;FMTTYPE=image/png:https://circoloculturaestampabellunese.it/wp-content/uploads/2025/07/Trieste-v2-1.png
END:VEVENT
END:VCALENDAR